BEGIN:VCALENDAR
VERSION:2.0
PRODID:-//eventon.com NONSGML v1.0//EN
CALSCALE:GREGORIAN
METHOD:PUBLISH
BEGIN:VEVENT
UID:69ea10974c23d
DTSTAMP:20260423T122911Z
DTSTART:20250423T220000Z
DTEND:20250424T000000Z
LOCATION:
SUMMARY:Basketball Game Night!
DESCRIPTION:Basketball Game Night!\nhttps://bluehandsunited.org/events/bask
 etball-game-night/
URL:https://bluehandsunited.org/events/basketball-game-night/
END:VEVENT
END:VCALENDAR